BEGIN:VCALENDAR
VERSION:2.0
PRODID:-//Drupal: Date iCal//NONSGML kigkonsult.se iCalcreator 2.16.12//
METHOD:PUBLISH
X-WR-CALNAME;VALUE=TEXT:Ical
BEGIN:VTIMEZONE
TZID:America/New_York
BEGIN:STANDARD
DTSTART:20171105T020000
TZOFFSETFROM:-0400
TZOFFSETTO:-0500
TZNAME:EST
END:STANDARD
BEGIN:DAYLIGHT
DTSTART:20180311T020000
TZOFFSETFROM:-0500
TZOFFSETTO:-0400
TZNAME:EDT
END:DAYLIGHT
END:VTIMEZONE
BEGIN:VEVENT
UID:calendar.1061481.field_date.0@carrcenter.hks.harvard.edu
DTSTAMP:20210301T012452Z
DESCRIPTION:\n	The Carr Center is delighted to host Maria Virginia Bras Gome
 s\, Chair of the UN Committee on Economic\, Social and Cultural Rights.\n
 \n\n\n	Ms. Bras Gomes will discuss the Committee's work on diverse economic
 \, social\, and cultural rights issues\, and provide an insight into the w
 ork of critical UN treaty bodies addressing human rights policy.\n\n\n\n	Se
 lected participants for the Carr Center's delegation to the UN General Ass
 embly are required to attend this event\, but all others are also welcome 
 to attend.\n\n\n\n	*Breakfast will be served.\n\n
DTSTART;TZID=America/New_York:20171012T090000
DTEND;TZID=America/New_York:20171012T100000
LAST-MODIFIED:20200211T173029Z
LOCATION:Nye A\, 5th floor\, Taubman Building\, (Harvard Kennedy School)
SUMMARY:UN Treaty Bodies: The Work of the Committee on Economic\, Social & 
 Cultural Rights
URL;TYPE=URI:https://carrcenter.hks.harvard.edu/event/un-treaty-bodies-work
 -committee-economic-social-cultural-rights
END:VEVENT
END:VCALENDAR
