BEGIN:VCALENDAR
VERSION:2.0
PRODID:-//Drupal: Date iCal//NONSGML kigkonsult.se iCalcreator 2.16.12//
METHOD:PUBLISH
X-WR-CALNAME;VALUE=TEXT:Ical
BEGIN:VTIMEZONE
TZID:America/New_York
BEGIN:STANDARD
DTSTART:20171105T020000
TZOFFSETFROM:-0400
TZOFFSETTO:-0500
TZNAME:EST
END:STANDARD
BEGIN:DAYLIGHT
DTSTART:20180311T020000
TZOFFSETFROM:-0500
TZOFFSETTO:-0400
TZNAME:EDT
END:DAYLIGHT
END:VTIMEZONE
BEGIN:VEVENT
UID:calendar.1061056.field_date.0@carrcenter.hks.harvard.edu
DTSTAMP:20210301T012452Z
DESCRIPTION:\n	Carr Center Fellow Leonardo Castilho will host a lunchtime se
 minar providing an introduction to the United Nations'&nbsp\;engagement wi
 th human rights policy issues.\n\n\n\n	Leonardo&nbsp\;joined the United Nat
 ions in 2005 and has&nbsp\;since then served the Office of the High Commis
 sioner for Human Rights (OHCHR) and the UN Population Fund. He has worked 
 on non-discrimination\, development and economic\, social and cultural rig
 hts.\n\n\n\n	Leonardo will lead the Carr Center's human rights delegation t
 o the United Nations General Assembly in October 2017. Apply and learn mor
 e here:&nbsp\;https://carrcenter.hks.harvard.edu/news/apply-un-human-right
 s-delegation&nbsp\;\n\n\n\n	*Lunch will be served at this event.\n\n
DTSTART;TZID=America/New_York:20170926T114500
DTEND;TZID=America/New_York:20170926T130000
LAST-MODIFIED:20200211T173228Z
LOCATION:Rubenstein-229\, Carr Center Conference Room\, Harvard Kennedy Sch
 ool
SUMMARY:The UN and Human Rights
URL;TYPE=URI:https://carrcenter.hks.harvard.edu/event/un-and-human-rights
END:VEVENT
END:VCALENDAR
