BEGIN:VCALENDAR
VERSION:2.0
PRODID:-//Drupal: Date iCal//NONSGML kigkonsult.se iCalcreator 2.16.12//
METHOD:PUBLISH
X-WR-CALNAME;VALUE=TEXT:Ical
BEGIN:VTIMEZONE
TZID:America/New_York
BEGIN:STANDARD
DTSTART:20171105T020000
TZOFFSETFROM:-0400
TZOFFSETTO:-0500
TZNAME:EST
END:STANDARD
BEGIN:DAYLIGHT
DTSTART:20180311T020000
TZOFFSETFROM:-0500
TZOFFSETTO:-0400
TZNAME:EDT
END:DAYLIGHT
END:VTIMEZONE
BEGIN:VEVENT
UID:calendar.1061021.field_date.0@carrcenter.hks.harvard.edu
DTSTAMP:20210301T012453Z
DESCRIPTION:\n	The Carr Center is delighted to host Human Rights First’s Sen
 ior Vice President Rob Berschinski.\n\n\n\n	Berschinski will discuss the Tr
 ump Administration’s approach to human rights\, and what the administratio
 n’s departure from decades of bipartisan consensus on the benefits of adva
 ncing human rights and democracy means for America’s place in the world.\n
 \n\n\n	Before joining Human Rights First\, Berschinski served in the Obama 
 Administration as Deputy Assistant Secretary of State for Democracy\, Huma
 n Rights\, and Labor. He also served under Ambassador Samantha Power as De
 puty Director of the U.S. Mission to the United Nations’ office in Washing
 ton\, D.C.&nbsp\;\n\n\n\n	&nbsp\;\n\n
DTSTART;TZID=America/New_York:20171012T120000
DTEND;TZID=America/New_York:20171012T130000
LAST-MODIFIED:20200211T174346Z
LOCATION:Nye A\, 5th floor\, Taubman Building (Harvard Kennedy School)
SUMMARY:The End of a Values-Driven Foreign Policy? Human Rights & the Trump
  Administration
URL;TYPE=URI:https://carrcenter.hks.harvard.edu/event/human-rights-first-va
 lue-driven-foreign-policy
END:VEVENT
END:VCALENDAR
