BEGIN:VCALENDAR
VERSION:2.0
PRODID:-//Drupal: Date iCal//NONSGML kigkonsult.se iCalcreator 2.16.12//
METHOD:PUBLISH
X-WR-CALNAME;VALUE=TEXT:Ical
BEGIN:VTIMEZONE
TZID:America/New_York
BEGIN:STANDARD
DTSTART:20171105T020000
TZOFFSETFROM:-0400
TZOFFSETTO:-0500
TZNAME:EST
END:STANDARD
BEGIN:DAYLIGHT
DTSTART:20180311T020000
TZOFFSETFROM:-0500
TZOFFSETTO:-0400
TZNAME:EDT
END:DAYLIGHT
END:VTIMEZONE
BEGIN:VEVENT
UID:calendar.1048096.field_date.0@carrcenter.hks.harvard.edu
DTSTAMP:20210301T011710Z
DESCRIPTION:\n	The Carr Center is delighted to host Amnesty International US
 A’s Executive Director\, Margaret Huang.\n\n\n\n	&nbsp\;\n\n\n\n	Huang&nbsp\
 ;will discuss the organization’s fight against human rights abuses worldwi
 de\, including campaigns here in the U.S. against police brutality toward 
 protestors (Ferguson\, Baltimore\, and Standing Rock Reservation) and oppo
 sing the Trump Executive Order banning refugees and immigrants from six Mu
 slim countries. With 8 million members around the world\, Amnesty Internat
 ional uses research\, advocacy and grassroots activism to demand human rig
 hts for all.\n\n\n\n	&nbsp\;\n\n\n\n	Attendees will have the chance to ask M
 argaret questions about Amnesty’s work and policy issues\, and to learn ab
 out career development in human rights research and advocacy.\n\n\n\n	&nbsp
 \;\n\n
DTSTART;TZID=America/New_York:20171101T120000
DTEND;TZID=America/New_York:20171101T130000
LAST-MODIFIED:20200211T174329Z
LOCATION:HKS\, Taubman Building\, Nye A (5th floor)
SUMMARY:Amnesty International: Fighting Human Rights Abuses
URL;TYPE=URI:https://carrcenter.hks.harvard.edu/event/amnesty-international
 -fighting-human-rights-abuses
END:VEVENT
END:VCALENDAR
