BEGIN:VCALENDAR
VERSION:2.0
PRODID:-//Drupal: Date iCal//NONSGML kigkonsult.se iCalcreator 2.16.12//
METHOD:PUBLISH
X-WR-CALNAME;VALUE=TEXT:Ical
BEGIN:VTIMEZONE
TZID:America/New_York
BEGIN:STANDARD
DTSTART:20171105T020000
TZOFFSETFROM:-0400
TZOFFSETTO:-0500
TZNAME:EST
END:STANDARD
BEGIN:DAYLIGHT
DTSTART:20180311T020000
TZOFFSETFROM:-0500
TZOFFSETTO:-0400
TZNAME:EDT
END:DAYLIGHT
END:VTIMEZONE
BEGIN:VEVENT
UID:calendar.1032921.field_date.0@carrcenter.hks.harvard.edu
DTSTAMP:20210301T011729Z
DESCRIPTION:\n	\n\n\n\n	The Carr Center is delighted to welcome Senior Fellow
  Siddharth Kara to discuss his new book\, Modern Slavery: A Global Perspec
 tive.\n\n\n\n	Kara is a tireless chronicler of the human cost of slavery ar
 ound the world. In Modern Slavery\, he demonstrates the scope of slavery a
 nd offers a concrete path to its abolition. \n\n\n\n	Drawing on 16 years of
  field research in more than 60 countries around the globe\, Kara will dis
 cuss the key manifestations of modern slavery and how it is embedded in gl
 obal supply chains.\n\n
DTSTART;TZID=America/New_York:20171010T120000
DTEND;TZID=America/New_York:20171010T133000
LAST-MODIFIED:20200211T173206Z
LOCATION:Harvard Kennedy School\, Taubman Building\, Nye A (5th floor)
SUMMARY:Book Talk – Modern Slavery: A Global Perspective
URL;TYPE=URI:https://carrcenter.hks.harvard.edu/event/book-talk-%E2%80%93-m
 odern-slavery-global-perspective
END:VEVENT
END:VCALENDAR
