BEGIN:VCALENDAR
VERSION:2.0
PRODID:-//Drupal: Date iCal//NONSGML kigkonsult.se iCalcreator 2.16.12//
METHOD:PUBLISH
X-WR-CALNAME;VALUE=TEXT:Ical
BEGIN:VTIMEZONE
TZID:America/New_York
BEGIN:STANDARD
DTSTART:20171105T020000
TZOFFSETFROM:-0400
TZOFFSETTO:-0500
TZNAME:EST
END:STANDARD
BEGIN:DAYLIGHT
DTSTART:20180311T020000
TZOFFSETFROM:-0500
TZOFFSETTO:-0400
TZNAME:EDT
END:DAYLIGHT
END:VTIMEZONE
BEGIN:VEVENT
UID:calendar.1020346.field_date.0@carrcenter.hks.harvard.edu
DTSTAMP:20210301T012451Z
DESCRIPTION:\n	We welcome you to join us for our annual Open House event. Le
 arn more about the Carr Center for Human Rights Policy and our mission to 
 realize global justice through theory\, policy\, and practice.\n\n\n\n	We w
 ill discuss ways to get involved with the Carr Center\, including learning
  and funding opportunities for students. There will also be a chance to me
 et and network with our faculty and fellows. \n\n\n\n	The Carr Center is ex
 cited to host a photo exhibition at this year’s Open House\, featuring exc
 eptional photography that explores various human rights issues in the worl
 d today. \n\n\n\n	Complimentary food and drinks will be served.\n\n\n\n	RSVP
  here. \n\n
DTSTART;TZID=America/New_York:20170912T153000
DTEND;TZID=America/New_York:20170912T163000
LAST-MODIFIED:20200211T173029Z
LOCATION:Malkin Penthouse\, Littauer Building\, 4th floor
SUMMARY:Open House & Exhibition: Carr Center for Human Rights Policy 
URL;TYPE=URI:https://carrcenter.hks.harvard.edu/event/open-house
END:VEVENT
END:VCALENDAR
